BEGIN:VCALENDAR
VERSION:2.0
PRODID: -//CMS 5.0 //NONSGML //DE
BEGIN:VEVENT
SUMMARY:Machet die Tore weit - Adventskonzert
DESCRIPTION:Chöre und Orchester der Neuapostolischen Gemeinde Chemnitz 
 musizieren unter Leitung von Gero Richter stimmungsvolle Adventsmusik\n
 Der Eintritt ist frei.\nSpenden an den Förderverein der Neuapostolisch
 en Kirchengemeinde Chemnitz e.V. zugunsten der Musikarbeit in der Gemei
 nde und der Arbeit der Tafel in Chemnitz sind herzlich willkommen.\n\nD
 as Konzert wird auch auf YouTube übertragen.\n\n\n\nhttps://chemnitz.n
 ak-nordost.de/db/330405
UID:330405@chemnitz.nak-nordost.de
LOCATION:Jens Morbach
CATEGORIES:Konzerte, Musik,Gemeinde Chemnitz,Kulturkirche2025
X-ORGANIZER:
STATUS:CONFIRMED
CLASS:PUBLIC
DTSTART:20241208T160000Z
DTEND:20241208T160000Z
DTSTAMP:20260419T130220Z
CREATED:20240401T170117Z
LAST-MODIFIED:20241203T111034Z
BEGIN:VALARM
UID:00231B84-3BF0-11F1-B364-FE4A4D29324C
TRIGGER:-PT60M
ACTION:DISPLAY
DESCRIPTION:SUMMARY:Machet die Tore weit - Adventskonzert
END:VALARM
END:VEVENT
END:VCALENDAR
